BEGIN:VCALENDAR
VERSION:2.0
PRODID:icalendar-ruby
CALSCALE:GREGORIAN
METHOD:PUBLISH
BEGIN:VEVENT
DTSTAMP:20260420T144608Z
UID:33-285020@fairparkrussellville.org
DTSTART:20260502T150000Z
DTEND:20260503T040000Z
CLASS:PUBLIC
CREATED:20260319T174831
DESCRIPTION:For all adults going to church camp! Lunch will be served.
LAST-MODIFIED:20260319T174831
LOCATION:Arkansas River Valley Baptist Association
SUMMARY:Big Camp Meeting
URL;VALUE=URI:https://fairparkrussellville.org/events/big-camp-meeting/2026
 -05-02
ATTACH;FILENAME=Brown-Green-Orange-Creative-Summer-Camp-Presentation.png;FM
 TTYPE=image/png:https://dq5pwpg1q8ru0.cloudfront.net/2026/03/19/22/48/31/f
 6a1601e-917a-4de0-ad12-3578f876df5b/Brown-Green-Orange-Creative-Summer-Cam
 p-Presentation.png
END:VEVENT
END:VCALENDAR
