BEGIN:VCALENDAR
VERSION:2.0
PRODID:icalendar-ruby
CALSCALE:GREGORIAN
METHOD:PUBLISH
BEGIN:VEVENT
DTSTAMP:20260423T115753Z
UID:6-323032@fairparkrussellville.org
DTSTART:20260809T160000Z
DTEND:20260809T170000Z
CLASS:PUBLIC
CREATED:20260422T221422
DESCRIPTION:
LAST-MODIFIED:20260422T221422
LOCATION:
SUMMARY:Sunday Morning Worship Service
URL;VALUE=URI:https://fairparkrussellville.org/events/sunday-morning-worshi
 p-service/2026-08-09
ATTACH;FILENAME=Sunday-Morning-Worship-%282%29.jpg;FMTTYPE=image/jpeg:https
 ://dq5pwpg1q8ru0.cloudfront.net/2025/09/06/19/12/34/819a766c-42ab-40f2-bca
 d-f55c4fcaca19/Sunday-Morning-Worship-%25282%2529.jpg
END:VEVENT
END:VCALENDAR
