BEGIN:VCALENDAR
VERSION:2.0
PRODID:icalendar-ruby
CALSCALE:GREGORIAN
METHOD:PUBLISH
BEGIN:VEVENT
DTSTAMP:20260424T045953Z
UID:6-324202@fairparkrussellville.org
DTSTART:20261101T170000Z
DTEND:20261101T180000Z
CLASS:PUBLIC
CREATED:20260423T221616
DESCRIPTION:
LAST-MODIFIED:20260423T221616
LOCATION:
SUMMARY:Sunday Morning Worship Service
URL;VALUE=URI:https://fairparkrussellville.org/events/sunday-morning-worshi
 p-service/2026-11-01
ATTACH;FILENAME=Sunday-Morning-Worship-%282%29.jpg;FMTTYPE=image/jpeg:https
 ://dq5pwpg1q8ru0.cloudfront.net/2025/09/06/19/12/34/819a766c-42ab-40f2-bca
 d-f55c4fcaca19/Sunday-Morning-Worship-%25282%2529.jpg
END:VEVENT
END:VCALENDAR
